BEGIN:VCALENDAR
VERSION:2.0
PRODID:-//Geshtinana - ECPv6.15.16//NONSGML v1.0//EN
CALSCALE:GREGORIAN
METHOD:PUBLISH
X-ORIGINAL-URL:https://geshtinana.lt
X-WR-CALDESC:Geshtinana renginiai
REFRESH-INTERVAL;VALUE=DURATION:PT1H
X-Robots-Tag:noindex
X-PUBLISHED-TTL:PT1H
BEGIN:VTIMEZONE
TZID:Europe/Vilnius
BEGIN:DAYLIGHT
TZOFFSETFROM:+0200
TZOFFSETTO:+0300
TZNAME:EEST
DTSTART:20250330T010000
END:DAYLIGHT
BEGIN:STANDARD
TZOFFSETFROM:+0300
TZOFFSETTO:+0200
TZNAME:EET
DTSTART:20251026T010000
END:STANDARD
BEGIN:DAYLIGHT
TZOFFSETFROM:+0200
TZOFFSETTO:+0300
TZNAME:EEST
DTSTART:20260329T010000
END:DAYLIGHT
BEGIN:STANDARD
TZOFFSETFROM:+0300
TZOFFSETTO:+0200
TZNAME:EET
DTSTART:20261025T010000
END:STANDARD
BEGIN:DAYLIGHT
TZOFFSETFROM:+0200
TZOFFSETTO:+0300
TZNAME:EEST
DTSTART:20270328T010000
END:DAYLIGHT
BEGIN:STANDARD
TZOFFSETFROM:+0300
TZOFFSETTO:+0200
TZNAME:EET
DTSTART:20271031T010000
END:STANDARD
END:VTIMEZONE
BEGIN:VEVENT
DTSTART;TZID=Europe/Vilnius:20260425T100000
DTEND;TZID=Europe/Vilnius:20260425T180000
DTSTAMP:20260422T214756
CREATED:20260417T125944Z
LAST-MODIFIED:20260417T125944Z
UID:24003-1777111200-1777140000@geshtinana.lt
SUMMARY:Usui / Holy Fire® Reiki mokymai su Žydrūne (2 pakopa)
DESCRIPTION:[vc_row][vc_column][vc_column_text css=”” woodmart_inline=”no” text_larger=”no”]Šie mokymai gilina žinias ir leidžia siųsti energiją per atstumą\, naudojant Reiki simbolius. Iniciacija sustiprina energijos srautą\, tikslumą ir gebėjimą ją nukreipti. Ši pakopa kelia dvasinį lygmenį ir leidžia efektyviau dirbti su savimi ar teikti Reiki seansus kitiems. \nSeminaro programa:\n– Reiki II pakopa. Simboliai\, kilmė\, filosofija.\n– Meditacija „Šventa – dieviška meilė“.\n– Įžiebimas (iniciacija).\n– Simbolių naudojimas darbui su savimi. Praktika.\n– Simbolių naudojimas darbui su kitu. Praktika.\n– Gydymas per astumą.\n– Reiki nukreipimas konkrečioms sąlygoms ir tikslams.\n– Reiki naudojimas padedant atsikratyti nepageidaujamų įpročių.\n– Kūno\, emocijų ir proto subalansavimo metodai.\n– Reiki energijos siuntimas per atstumą\, per laiką ir erdvę.\n– Vadovėlis 200 psl. (William Lee Rand. Reiki. Gydantis prisilietimas. Pirmosios ir antrosios Reiki pakopos vadovėlis; jeigu mokotės I ir II pakopas kartu – vadovėlis vienas).\n– Sertifikatas. \nReikalavimai:\nŠis seminaras skirtas tik Reiki I pakopą baigusiems žmonėms. Tai užtikrina tvirtą Reiki principų\, rankų padėčių ir energetinio darbo pagrindą. Turėdami šias žinias\, būsite gerai pasirengę dirbti su pažangiomis technikomis ir koncepcijomis\, pateiktomis II pakopos Reiki. \nMokymus ves: \nŽydrūnė Žemaitytė\nUsui / Holy Fire® III Reiki® Meistrė – Mokytoja\nEkstrasensorikos Akademijos „Arka“ įkūrėja[/vc_column_text][/vc_column][/vc_row][vc_row][vc_column]REGISTRUOTIS[/vc_column][/vc_row]
URL:https://geshtinana.lt/renginys/usui-holy-fire-reiki-mokymai-su-zydrune-2-pakopa/
LOCATION:Geshtinana\, Šeimyniškių g. 18-3\, Vilnius\, 11302\, Lithuania
CATEGORIES:Mokymai
ATTACH;FMTTYPE=image/webp:https://geshtinana.lt/wp-content/uploads/2026/04/Reiki-balandis_C.webp
ORGANIZER;CN="%C5%BDydr%C5%ABn%C4%97 %C5%BDemaityt%C4%97":MAILTO:flowinglow11@gmail.com
END:VEVENT
BEGIN:VEVENT
DTSTART;TZID=Europe/Vilnius:20260516T100000
DTEND;TZID=Europe/Vilnius:20260516T180000
DTSTAMP:20260422T214756
CREATED:20260417T130144Z
LAST-MODIFIED:20260417T130144Z
UID:24005-1778925600-1778954400@geshtinana.lt
SUMMARY:Usui / Holy Fire® Reiki mokymai su Žydrūne (1 pakopa)
DESCRIPTION:[vc_row][vc_column][vc_column_text css=”” woodmart_inline=”no” text_larger=”no”]Šie mokymai – tai įvadas į Reiki praktiką\, kurio metu išmokstama perduoti energiją per fizinį kontaktą sau ir kitiems. Iniciacija atveria prieigą prie dvasinės išminties ir padeda atkurti ryšį su savo vidiniu „aš“. \nSeminaro programa:\n– Reiki istorija\, filosofija ir sistema.\n– 5 Reiki principai.\n– Meditacija „Šventos meilės vandenynas“.\n– Gašio meditacija.\n– Įžiebimas (iniciacija).\n– Byosen skenavimas.\n– Metodas vystyti intuiciją – Reiji Ho.\n– Energijos lauko apvalymas – Kenyoku.\n– Standartinio Reiki seanso rankų pozicijos.\n– Pilnas Reiki seansas sau ir kitiems.\n– Hayashi gydymo gidas.\n– 21 dienos detoksikacijos koncepcija.\n– Vadovėlis 200 psl. (William Lee Rand. Reiki. Gydantis prisilietimas. Pirmosios ir antrosios Reiki pakopos vadovėlis).\n– Sertifikatas. \nReikalavimai:\nSvarstote\, ar esate pasirengę pasinerti į Reiki I pakopą? Gera naujiena yra tai\, kad nėra jokių išankstinių sąlygų! Šis seminaras puikiai tinka pradedantiesiems\, taip pat turintiems energetinio gydymo patirties\, norintiems plėsti savo įgūdžius. Viskas\, ko jums reikia\, yra atviras protas\, noras mokytis ir atsidavimas augti ir atrasti save. \nMokymus ves: \nŽydrūnė Žemaitytė\nUsui / Holy Fire® III Reiki® Meistrė – Mokytoja\nEkstrasensorikos Akademijos „Arka“ įkūrėja[/vc_column_text][/vc_column][/vc_row][vc_row][vc_column]REGISTRUOTIS[/vc_column][/vc_row]
URL:https://geshtinana.lt/renginys/usui-holy-fire-reiki-mokymai-su-zydrune-1-pakopa-2/
LOCATION:Geshtinana\, Šeimyniškių g. 18-3\, Vilnius\, 11302\, Lithuania
CATEGORIES:Mokymai
ATTACH;FMTTYPE=image/webp:https://geshtinana.lt/wp-content/uploads/2026/04/Reiki-geguze_C.webp
ORGANIZER;CN="%C5%BDydr%C5%ABn%C4%97 %C5%BDemaityt%C4%97":MAILTO:flowinglow11@gmail.com
END:VEVENT
BEGIN:VEVENT
DTSTART;TZID=Europe/Vilnius:20260523T100000
DTEND;TZID=Europe/Vilnius:20260523T180000
DTSTAMP:20260422T214756
CREATED:20260417T130259Z
LAST-MODIFIED:20260417T130259Z
UID:24008-1779530400-1779559200@geshtinana.lt
SUMMARY:Usui / Holy Fire® Reiki mokymai su Žydrūne (2 pakopa)
DESCRIPTION:[vc_row][vc_column][vc_column_text css=”” woodmart_inline=”no” text_larger=”no”]Šie mokymai gilina žinias ir leidžia siųsti energiją per atstumą\, naudojant Reiki simbolius. Iniciacija sustiprina energijos srautą\, tikslumą ir gebėjimą ją nukreipti. Ši pakopa kelia dvasinį lygmenį ir leidžia efektyviau dirbti su savimi ar teikti Reiki seansus kitiems. \nSeminaro programa:\n– Reiki II pakopa. Simboliai\, kilmė\, filosofija.\n– Meditacija „Šventa – dieviška meilė“.\n– Įžiebimas (iniciacija).\n– Simbolių naudojimas darbui su savimi. Praktika.\n– Simbolių naudojimas darbui su kitu. Praktika.\n– Gydymas per astumą.\n– Reiki nukreipimas konkrečioms sąlygoms ir tikslams.\n– Reiki naudojimas padedant atsikratyti nepageidaujamų įpročių.\n– Kūno\, emocijų ir proto subalansavimo metodai.\n– Reiki energijos siuntimas per atstumą\, per laiką ir erdvę.\n– Vadovėlis 200 psl. (William Lee Rand. Reiki. Gydantis prisilietimas. Pirmosios ir antrosios Reiki pakopos vadovėlis; jeigu mokotės I ir II pakopas kartu – vadovėlis vienas).\n– Sertifikatas. \nReikalavimai:\nŠis seminaras skirtas tik Reiki I pakopą baigusiems žmonėms. Tai užtikrina tvirtą Reiki principų\, rankų padėčių ir energetinio darbo pagrindą. Turėdami šias žinias\, būsite gerai pasirengę dirbti su pažangiomis technikomis ir koncepcijomis\, pateiktomis II pakopos Reiki. \nMokymus ves: \nŽydrūnė Žemaitytė\nUsui / Holy Fire® III Reiki® Meistrė – Mokytoja\nEkstrasensorikos Akademijos „Arka“ įkūrėja[/vc_column_text][/vc_column][/vc_row][vc_row][vc_column]REGISTRUOTIS[/vc_column][/vc_row]
URL:https://geshtinana.lt/renginys/usui-holy-fire-reiki-mokymai-su-zydrune-2-pakopa-2/
LOCATION:Geshtinana\, Šeimyniškių g. 18-3\, Vilnius\, 11302\, Lithuania
CATEGORIES:Mokymai
ATTACH;FMTTYPE=image/webp:https://geshtinana.lt/wp-content/uploads/2026/04/Reiki-geguze_C.webp
ORGANIZER;CN="%C5%BDydr%C5%ABn%C4%97 %C5%BDemaityt%C4%97":MAILTO:flowinglow11@gmail.com
END:VEVENT
END:VCALENDAR